BEGIN:VCALENDAR
VERSION:2.0
PRODID:-//81.169.145.74//NONSGML kigkonsult.se iCalcreator 2.20//
CALSCALE:GREGORIAN
METHOD:PUBLISH
X-WR-TIMEZONE:UTC
BEGIN:VEVENT
UID:event2@Naturfreunde Bayern Wintersport
DTSTAMP:20260420T102411Z
CATEGORIES:Naturfreunde
DESCRIPTION:Sichtung/ VB1 zu ÜL- Grundstufe\nKategorie: Naturfreunde\nICS-L
 ink: https://www.naturfreunde-ski.de/index.php?option=com_jem&view=event&i
 d=2:sichtung-vb1-zu-uel-grundstufe\n
DTSTART;VALUE=DATE:20231209
DTEND;VALUE=DATE:20231211
LOCATION:Fieberbrunn/Saalbach
SUMMARY:Sichtung/ VB1 zu ÜL- Grundstufe
URL:https://www.naturfreunde-ski.de/index.php?option=com_jem&view=event&id=
 2:sichtung-vb1-zu-uel-grundstufe
END:VEVENT
END:VCALENDAR