BEGIN:VCALENDAR
VERSION:2.0
PRODID:-//81.169.145.74//NONSGML kigkonsult.se iCalcreator 2.20//
CALSCALE:GREGORIAN
METHOD:PUBLISH
X-WR-TIMEZONE:UTC
BEGIN:VEVENT
UID:event6@Naturfreunde Bayern Wintersport
DTSTAMP:20260423T055109Z
CATEGORIES:Naturfreunde
DESCRIPTION:Prüfungslehrgang Grundstufe Teil 2\nKategorie: Naturfreunde\nIC
 S-Link: https://www.naturfreunde-ski.de/index.php?option=com_jem&view=even
 t&id=6:pruefungslehrgang-grundstufe-teil-2\n
DTSTART;VALUE=DATE:20240215
DTEND;VALUE=DATE:20240219
SUMMARY:Prüfungslehrgang Grundstufe Teil 2
URL:https://www.naturfreunde-ski.de/index.php?option=com_jem&view=event&id=
 6:pruefungslehrgang-grundstufe-teil-2
END:VEVENT
END:VCALENDAR